BEGIN:VCALENDAR
VERSION:2.0
PRODID:icalendar-ruby
CALSCALE:GREGORIAN
METHOD:PUBLISH
BEGIN:VEVENT
DTSTAMP:20260422T025602Z
UID:262-1796@gormanbc.com
DTSTART:20260423T140000Z
DTEND:20260423T170000Z
CLASS:PUBLIC
CREATED:20260421T115751
DESCRIPTION:Join the fellowship of Senior Adults at this lunch time. We'll 
 be making crafts with Penny Mayes. Bring $7 for lunch and sign up by calli
 ng the church office.
LAST-MODIFIED:20260421T115751
LOCATION:Family Life Center
SUMMARY:Young at Heart Lunch
URL;VALUE=URI:https://gormanbc.com/events/young-at-heart-lunch--262/2026-04
 -23
ATTACH;FILENAME=ministry_set_senior_adult_ministry-title-1-Standard 4x3.jpg
 ;FMTTYPE=image/jpeg:https://dq5pwpg1q8ru0.cloudfront.net/2026/04/21/15/57/
 50/cfca4600-13d8-4531-8ada-8d26812e8b69/ministry_set_senior_adult_ministry
 -title-1-Standard%204x3.jpg
END:VEVENT
END:VCALENDAR
