BEGIN:VCALENDAR
VERSION:2.0
PRODID:icalendar-ruby
CALSCALE:GREGORIAN
METHOD:PUBLISH
BEGIN:VEVENT
DTSTAMP:20260422T034455Z
UID:265-1799@gormanbc.com
DTSTART:20260503T160000Z
DTEND:20260503T180000Z
CLASS:PUBLIC
CREATED:20260421T123417
DESCRIPTION:For VBS Workers\, right after church in the Family Life Center.
LAST-MODIFIED:20260421T123417
LOCATION:Family Life Center
SUMMARY:VBS Volunteer Meeting
URL;VALUE=URI:https://gormanbc.com/events/vbs-volunteer-meeting/2026-05-03
ATTACH;FILENAME=Romelogo1 LR.png;FMTTYPE=image/png:https://dq5pwpg1q8ru0.cl
 oudfront.net/2026/04/21/16/34/17/6ed77115-bb45-4f27-874b-762c775c0237/Rome
 logo1%20LR.png
END:VEVENT
END:VCALENDAR
