BEGIN:VCALENDAR
VERSION:2.0
PRODID:icalendar-ruby
CALSCALE:GREGORIAN
METHOD:PUBLISH
BEGIN:VEVENT
DTSTAMP:20260422T025648Z
UID:264-1805@gormanbc.com
DTSTART:20260423T203000Z
DTEND:20260423T213000Z
CLASS:PUBLIC
CREATED:20260421T144505
DESCRIPTION:GCA Book Fair Carnival from 4:30-7:30 PM\, Come shop at the boo
 k fair\, purchase concessions from the Nicaragua mission team\, and have s
 ome fun playing games in the classrooms. 
LAST-MODIFIED:20260421T144505
LOCATION:Gorman Christian Academy
SUMMARY:GCA Carnival
URL;VALUE=URI:https://gormanbc.com/events/gca-carnival/2026-04-23
ATTACH;FILENAME=GCA Logo.png;FMTTYPE=image/png:https://dq5pwpg1q8ru0.cloudf
 ront.net/2026/04/21/16/32/48/132da348-fe0e-4fd3-9dab-1ed14fd20803/GCA%20Lo
 go.png
END:VEVENT
END:VCALENDAR
