BEGIN:VCALENDAR
VERSION:2.0
PRODID:icalendar-ruby
CALSCALE:GREGORIAN
METHOD:PUBLISH
BEGIN:VEVENT
DTSTAMP:20260422T043120Z
UID:267-1801@gormanbc.com
DTSTART:20260505T130000Z
DTEND:20260505T170000Z
CLASS:PUBLIC
CREATED:20260421T123726
DESCRIPTION:Senior Adults going on an outing to the Farmer's Market. 
LAST-MODIFIED:20260421T123726
LOCATION:
SUMMARY:Farmer's Market Outing
URL;VALUE=URI:https://gormanbc.com/events/farmers-market-outing/2026-05-05
ATTACH;FILENAME=ministry_set_senior_adult_ministry-title-1-Standard 4x3.jpg
 ;FMTTYPE=image/jpeg:https://dq5pwpg1q8ru0.cloudfront.net/2026/04/21/16/37/
 26/60d52c78-39c5-441c-b8b1-f822585468ea/ministry_set_senior_adult_ministry
 -title-1-Standard%204x3.jpg
END:VEVENT
END:VCALENDAR
